BEGIN:VCALENDAR
VERSION:2.0
PRODID:-//ChamberMaster//Event Calendar 2.0//EN
METHOD:PUBLISH
X-PUBLISHED-TTL:P3D
REFRESH-INTERVAL:P3D
CALSCALE:GREGORIAN
BEGIN:VEVENT
DTSTART:20241213T220000Z
DTEND:20241214T000000Z
X-MICROSOFT-CDO-ALLDAYEVENT:FALSE
SUMMARY:Young Professionals of Van Wert County Social Hour at Olympic Lanes!
DESCRIPTION:Join the Young Professionals of Van Wert County at Olympic Lanes in Van Wert for their 1st bowling Happy Hour!
X-ALT-DESC;FMTTYPE=text/html:Join the Young Professionals of Van Wert County at Olympic Lanes in Van Wert for their 1st bowling Happy Hour!
LOCATION:Olympic Lanes 430 W. Ervin Rd. Van Wert\, OH 45891
UID:e.1384.3385
SEQUENCE:3
DTSTAMP:20260419T144435Z
URL:https://business.vanwertchamber.com/events/details/young-professionals-of-van-wert-county-social-hour-at-olympic-lanes-3385
END:VEVENT

END:VCALENDAR
