BEGIN:VCALENDAR
VERSION:2.0
PRODID:-//ChamberMaster//Event Calendar 2.0//EN
METHOD:PUBLISH
X-PUBLISHED-TTL:P3D
REFRESH-INTERVAL:P3D
CALSCALE:GREGORIAN
BEGIN:VEVENT
DTSTART:20251023T210000Z
DTEND:20251023T230000Z
X-MICROSOFT-CDO-ALLDAYEVENT:FALSE
SUMMARY:Young Professionals of Van Wert County After Hours at First Federal
DESCRIPTION:Join the Young Professionals of Van Wert County at First Federal's new location on North Washington. Get a free updated headshot on us.   \n\n\n\nRegister Here - https://forms.gle/gf1mJ3nwn5ekBjs97
X-ALT-DESC;FMTTYPE=text/html:Join the Young Professionals of Van Wert County at First Federal&#39\;s new location on North Washington. Get a free updated headshot on us.&nbsp\; &nbsp\;<br />\n<br />\nRegister Here -&nbsp\;https://forms.gle/gf1mJ3nwn5ekBjs97
LOCATION:820 N. Washington St. Van Wert\, OH 45891
UID:e.1384.3438
SEQUENCE:3
DTSTAMP:20260425T190333Z
URL:https://business.vanwertchamber.com/events/details/young-professionals-of-van-wert-county-after-hours-at-first-federal-3438
END:VEVENT

END:VCALENDAR
