BEGIN:VCALENDAR
VERSION:2.0
PRODID:-//ChamberMaster//Event Calendar 2.0//EN
METHOD:PUBLISH
X-PUBLISHED-TTL:P3D
REFRESH-INTERVAL:P3D
CALSCALE:GREGORIAN
BEGIN:VEVENT
DTSTART:20260207T003000Z
DTEND:20260207T023000Z
X-MICROSOFT-CDO-ALLDAYEVENT:FALSE
SUMMARY:Van Wert Community Night with Fort Wayne Komets!
DESCRIPTION:Join friends and family for a great night of Komet hockey at the Van Wert Community Night!
X-ALT-DESC;FMTTYPE=text/html:Join friends and family for a great night of Komet hockey at the Van Wert Community Night!
LOCATION:Allen County War Memorial Coliseum 4000 Parnell Ave Fort Wayne\, IN 46806
UID:e.1384.3453
SEQUENCE:3
DTSTAMP:20260425T155839Z
URL:https://business.vanwertchamber.com/events/details/van-wert-community-night-with-fort-wayne-komets-3453
END:VEVENT

END:VCALENDAR
