BEGIN:VCALENDAR
VERSION:2.0
PRODID:-//ChamberMaster//Event Calendar 2.0//EN
METHOD:PUBLISH
X-PUBLISHED-TTL:P3D
REFRESH-INTERVAL:P3D
CALSCALE:GREGORIAN
BEGIN:VEVENT
DTSTART:20241207T003000Z
DTEND:20241207T023000Z
X-MICROSOFT-CDO-ALLDAYEVENT:FALSE
SUMMARY:Van Wert Civic Theatre Presents\, "A Christmas Carol"
DESCRIPTION:John Jakes' A Christmas Carol brings Dickens' beloved tale to life on stage. In a unique twist\, Charles Dickens himself sets the scene\, offering personal insights as the story unfolds. Witness Ebenezer Scrooge's unforgettable journey through Christmas Eve with the Ghosts of Christmas Past\, Present\, and Future. This faithful adaptation stays true to the heartwarming themes of redemption and generosity\, while adding a new musical element with an original carol "God Bless Us Every One."
X-ALT-DESC;FMTTYPE=text/html:<p style="box-sizing: border-box\; -webkit-tap-highlight-color: transparent\; margin: 0px 0px 10px\;"><span style="color: rgb(68\, 67\, 64)\; font-family: &quot\;Source Sans Pro&quot\;\, sans-serif\; font-size: 16px\;">John Jakes&#39\; A Christmas Carol brings Dickens&#39\; beloved tale to life on stage. In a unique twist\, Charles Dickens himself sets the scene\, offering personal insights as the story unfolds. Witness Ebenezer Scrooge&#39\;s unforgettable journey through Christmas Eve with the Ghosts of Christmas Past\, Present\, and Future. This faithful adaptation stays true to the heartwarming themes of redemption and generosity\, while adding a new musical element with an original carol &quot\;God Bless Us Every One.&quot\;</span></p>\n
LOCATION:Van Wert Civic Theatre 116 S. Race St. Van Wert\, OH 45891
UID:e.1384.3345
SEQUENCE:3
DTSTAMP:20260419T125545Z
URL:https://business.vanwertchamber.com/events/details/van-wert-civic-theatre-presents-a-christmas-carol-3345
END:VEVENT

END:VCALENDAR
