BEGIN:VCALENDAR
VERSION:2.0
PRODID:-//ChamberMaster//Event Calendar 2.0//EN
METHOD:PUBLISH
X-PUBLISHED-TTL:P3D
REFRESH-INTERVAL:P3D
CALSCALE:GREGORIAN
BEGIN:VEVENT
DTSTART:20251008T120000Z
DTEND:20251008T133000Z
X-MICROSOFT-CDO-ALLDAYEVENT:FALSE
SUMMARY:Ohio West Safety Council- Behavioral Health and Your Employees
DESCRIPTION:Join us for the monthly meeting of the Ohio West Safety Council\, sponsored by Eastman & Smith\, Ltd. The Ohio West Safety Council is facilitated by the Van Wert Chamber of Commerce on behalf of the Ohio Bureau of Workers Compensation to provide safety training for our region. \n\nMary Miller from Mercy Health serves as the Community Education Coordinator for Behavioral Health at Mercy Health St. Rita's\, where she leads education and outreach initiatives to promote mental health awareness and access. A Licensed Social Worker\, she earned her Master of Social Work degree from The Ohio State University in 2018 and has completed National CASA Training of Facilitators. She has presented nationally at US Aging and On Aging on misconceptions of behavioral health and the importance of wrap-around services for older adults who have been victims of crime. Mary is passionate about breaking stigma\, strengthening community partnerships\, and advancing behavioral health education.
X-ALT-DESC;FMTTYPE=text/html:<span style="font-size:14px\;"><span style="color:#000000\;">Join us for the monthly meeting of the Ohio West Safety Council\, sponsored by Eastman &amp\; Smith\, Ltd. The Ohio West Safety Council is facilitated by the Van Wert Chamber of Commerce on behalf of the Ohio Bureau of Workers Compensation to provide safety training for our region.&nbsp\;</span><br />\n<span style="color:black\;">Mary Miller from Mercy Health serves as the Community Education Coordinator for Behavioral Health at Mercy Health St. Rita&rsquo\;s\, where she leads education and outreach initiatives to promote mental health awareness and access. A Licensed Social Worker\, she earned her Master of Social Work degree from The Ohio State University in 2018 and has completed National CASA Training of Facilitators. She has presented nationally at US Aging and On Aging on misconceptions of behavioral health and the importance of wrap-around services for older adults who have been victims of crime. Mary is passionate about breaking stigma\, strengthening community partnerships\, and advancing behavioral health education.</span></span>
LOCATION:Vantage Career Center located at 818 N. Franklin St. Van Wert\, OH 45891.
UID:e.1384.3414
SEQUENCE:3
DTSTAMP:20260425T190405Z
URL:https://business.vanwertchamber.com/events/details/ohio-west-safety-council-behavioral-health-and-your-employees-3414
END:VEVENT

END:VCALENDAR
