BEGIN:VCALENDAR
VERSION:2.0
PRODID:-//ChamberMaster//Event Calendar 2.0//EN
METHOD:PUBLISH
X-PUBLISHED-TTL:P3D
REFRESH-INTERVAL:P3D
CALSCALE:GREGORIAN
BEGIN:VEVENT
DTSTART:20251210T130000Z
DTEND:20251210T143000Z
X-MICROSOFT-CDO-ALLDAYEVENT:FALSE
SUMMARY:Ohio West Safety Council
DESCRIPTION:Join us for the monthly meeting of the Ohio West Safety Council\, sponsored by Eastman & Smith\, Ltd. The Ohio West Safety Council is facilitated by the Van Wert Chamber of Commerce on behalf of the Ohio Bureau of Workers Compensation to provide safety training for our region.
X-ALT-DESC;FMTTYPE=text/html:<span style="font-size:14px\;"><span style="color:#000000\;">Join us for the monthly meeting of the Ohio West Safety Council\, sponsored by Eastman &amp\; Smith\, Ltd. The Ohio West Safety Council is facilitated by the Van Wert Chamber of Commerce on behalf of the Ohio Bureau of Workers Compensation to provide safety training for our region.&nbsp\;</span></span>
LOCATION:Vantage Career Center located at 818 N. Franklin St. Van Wert\, OH 45891.
UID:e.1384.3416
SEQUENCE:3
DTSTAMP:20260425T155242Z
URL:https://business.vanwertchamber.com/events/details/ohio-west-safety-council-3416
END:VEVENT

END:VCALENDAR
