BEGIN:VCALENDAR
VERSION:2.0
PRODID:-//ChamberMaster//Event Calendar 2.0//EN
METHOD:PUBLISH
X-PUBLISHED-TTL:P3D
REFRESH-INTERVAL:P3D
CALSCALE:GREGORIAN
BEGIN:VEVENT
DTSTART:20241211T130000Z
DTEND:20241211T143000Z
X-MICROSOFT-CDO-ALLDAYEVENT:FALSE
SUMMARY:Ohio West Safety Council
DESCRIPTION:Join us for the monthly meeting of the Ohio West Safety Council. The Council is facilitated by the Van Wert Chamber of Commerce on behalf of the Ohio Bureau of Workers Compensation to provide safety training for our region. This month we are joined by Lt. Zack Merkle from the Van Wert Fire Department to learn about Fire Safety and Planning which will include a fire extinguisher demonstration.
X-ALT-DESC;FMTTYPE=text/html:<div><span style="font-size:14px\;"><span style="font-family: arial\;">Join us for the monthly meeting of the Ohio West Safety Council. The Council is facilitated by the Van Wert Chamber of Commerce on behalf of the Ohio Bureau of Workers Compensation to provide safety training for our region. This month we are joined by Lt. Zack Merkle from the Van Wert Fire Department to learn about Fire Safety and Planning which will include a fire extinguisher demonstration.&nbsp\;</span></span></div>\n
LOCATION:Vantage Career Center located at 818 N. Franklin St. Van Wert\, OH 45891.
UID:e.1384.3371
SEQUENCE:3
DTSTAMP:20260419T144816Z
URL:https://business.vanwertchamber.com/events/details/ohio-west-safety-council-3371
END:VEVENT

END:VCALENDAR
