BEGIN:VCALENDAR
VERSION:2.0
PRODID:-//ChamberMaster//Event Calendar 2.0//EN
METHOD:PUBLISH
X-PUBLISHED-TTL:P3D
REFRESH-INTERVAL:P3D
CALSCALE:GREGORIAN
BEGIN:VEVENT
DTSTART:20251028T120000Z
DTEND:20251028T123000Z
X-MICROSOFT-CDO-ALLDAYEVENT:FALSE
SUMMARY:Northwest State Community College Ribbon Cutting
DESCRIPTION:Join us to cut the ribbon on the Northwest State Community College Van Wert Campus!
X-ALT-DESC;FMTTYPE=text/html:Join us to cut the ribbon on the Northwest State Community College Van Wert Campus!
LOCATION:520 E. Sycamore St. Van Wert\, OH 45891
UID:e.1384.3443
SEQUENCE:3
DTSTAMP:20260425T190240Z
URL:https://business.vanwertchamber.com/events/details/northwest-state-community-college-ribbon-cutting-3443
END:VEVENT

END:VCALENDAR
