BEGIN:VCALENDAR
VERSION:2.0
PRODID:-//ChamberMaster//Event Calendar 2.0//EN
METHOD:PUBLISH
X-PUBLISHED-TTL:P3D
REFRESH-INTERVAL:P3D
CALSCALE:GREGORIAN
BEGIN:VEVENT
DTSTART:20251022T150000Z
DTEND:20251022T163000Z
X-MICROSOFT-CDO-ALLDAYEVENT:FALSE
SUMMARY:Millwork Brands Tour at Teem Wholesale
DESCRIPTION:Join us for a tour of Teem Wholesale & National Door & Trim Commercial a division of Millwork Brands and learn more about what's made in our community. Lunch included. \n\n\n\nRegister Here - https://forms.gle/8N4NJ9yB8i4ucniF8
X-ALT-DESC;FMTTYPE=text/html:Join us for a tour of Teem Wholesale &amp\; National Door &amp\; Trim Commercial a division of Millwork Brands and learn more about what&#39\;s made in our community. Lunch included.&nbsp\;<br />\n<br />\nRegister Here - https://forms.gle/8N4NJ9yB8i4ucniF8
LOCATION:200 W. Skinner Rd. Ohio City\, OH 45874
UID:e.1384.3437
SEQUENCE:3
DTSTAMP:20260425T190241Z
URL:https://business.vanwertchamber.com/events/details/millwork-brands-tour-at-teem-wholesale-3437
END:VEVENT

END:VCALENDAR
