BEGIN:VCALENDAR
VERSION:2.0
PRODID:-//ChamberMaster//Event Calendar 2.0//EN
METHOD:PUBLISH
X-PUBLISHED-TTL:P3D
REFRESH-INTERVAL:P3D
CALSCALE:GREGORIAN
BEGIN:VEVENT
DTSTART:20251121T130000Z
DTEND:20251121T133000Z
X-MICROSOFT-CDO-ALLDAYEVENT:FALSE
SUMMARY:Member 101
DESCRIPTION:Join us at McDonald's for breakfast or coffee to talk about anything Chamber.
X-ALT-DESC;FMTTYPE=text/html:Join us at McDonald&#39\;s for breakfast or coffee to talk about anything Chamber.&nbsp\;
LOCATION:1162 S. Shannon At. Van Wert\, OH 45891
UID:e.1384.3444
SEQUENCE:3
DTSTAMP:20260425T155139Z
URL:https://business.vanwertchamber.com/events/details/member-101-3444
END:VEVENT

END:VCALENDAR
