BEGIN:VCALENDAR
VERSION:2.0
PRODID:-//ChamberMaster//Event Calendar 2.0//EN
METHOD:PUBLISH
X-PUBLISHED-TTL:P3D
REFRESH-INTERVAL:P3D
CALSCALE:GREGORIAN
BEGIN:VEVENT
DTSTART:20251015T223000Z
DTEND:20251016T000000Z
X-MICROSOFT-CDO-ALLDAYEVENT:FALSE
SUMMARY:Meet the Candidates 2025
DESCRIPTION:Join us to Meet the Candidates running for office this November.
X-ALT-DESC;FMTTYPE=text/html:Join us to Meet the Candidates running for office this November.&nbsp\;
LOCATION:The Niswonger Performing Arts Center located at 10700 OH-118 Van Wert\, OH 45891.
UID:e.1384.3436
SEQUENCE:3
DTSTAMP:20260425T190326Z
URL:https://business.vanwertchamber.com/events/details/meet-the-candidates-2025-3436
END:VEVENT

END:VCALENDAR
