BEGIN:VCALENDAR
VERSION:2.0
PRODID:-//ChamberMaster//Event Calendar 2.0//EN
METHOD:PUBLISH
X-PUBLISHED-TTL:P3D
REFRESH-INTERVAL:P3D
CALSCALE:GREGORIAN
BEGIN:VEVENT
DTSTART:20250818T210000Z
DTEND:20250818T233000Z
X-MICROSOFT-CDO-ALLDAYEVENT:FALSE
SUMMARY:LifeWise Academy Open House
DESCRIPTION:Join LifeWise Academy to learn more about their program\, meet the teachers\, and enjoy some homemade cookies!
X-ALT-DESC;FMTTYPE=text/html:Join LifeWise Academy to learn more about their program\, meet the teachers\, and enjoy some homemade cookies!
LOCATION:This event will be located at 10922 SR 118\, Van Wert\, OH 45891!
UID:e.1384.3432
SEQUENCE:3
DTSTAMP:20260420T052332Z
URL:https://business.vanwertchamber.com/events/details/lifewise-academy-open-house-3432
END:VEVENT

END:VCALENDAR
