BEGIN:VCALENDAR
VERSION:2.0
PRODID:-//ChamberMaster//Event Calendar 2.0//EN
METHOD:PUBLISH
X-PUBLISHED-TTL:P3D
REFRESH-INTERVAL:P3D
CALSCALE:GREGORIAN
BEGIN:VEVENT
DTSTART;VALUE=DATE:20250905
DTEND;VALUE=DATE:20250908
TRANSP:TRANSPARENT
X-MICROSOFT-CDO-ALLDAYEVENT:TRUE
SUMMARY:Laurie's Naturescapes Fall Open House
DESCRIPTION:Laurie's Naturescapes is holding their Fall Open House featuring 50% off perennials and 30% off their spring and summer gift shop! They will also have 1803 fall candles\, fall mums\, and pumpkins!
X-ALT-DESC;FMTTYPE=text/html:Laurie&#39\;s Naturescapes is holding their Fall Open House featuring 50% off perennials and 30% off their spring and summer gift shop! They will also have 1803 fall candles\, fall mums\, and pumpkins!
LOCATION:12368 OH-118 Van Wert\, Oh 45891
UID:e.1384.3433
SEQUENCE:3
DTSTAMP:20260420T065002Z
URL:https://business.vanwertchamber.com/events/details/laurie-s-naturescapes-fall-open-house-3433
END:VEVENT

END:VCALENDAR
