BEGIN:VCALENDAR
VERSION:2.0
PRODID:-//ChamberMaster//Event Calendar 2.0//EN
METHOD:PUBLISH
X-PUBLISHED-TTL:P3D
REFRESH-INTERVAL:P3D
CALSCALE:GREGORIAN
BEGIN:VEVENT
DTSTART:20251217T210000Z
DTEND:20251217T220000Z
X-MICROSOFT-CDO-ALLDAYEVENT:FALSE
SUMMARY:Jingle While You Mingle
DESCRIPTION:
X-ALT-DESC;FMTTYPE=text/html:
LOCATION:
UID:e.1384.3445
SEQUENCE:3
DTSTAMP:20260425T172451Z
URL:https://business.vanwertchamber.com/events/details/jingle-while-you-mingle-3445
END:VEVENT

END:VCALENDAR
