BEGIN:VCALENDAR
VERSION:2.0
PRODID:-//ChamberMaster//Event Calendar 2.0//EN
METHOD:PUBLISH
X-PUBLISHED-TTL:P3D
REFRESH-INTERVAL:P3D
CALSCALE:GREGORIAN
BEGIN:VEVENT
DTSTART:20251030T130000Z
DTEND:20251030T200000Z
X-MICROSOFT-CDO-ALLDAYEVENT:FALSE
SUMMARY:Eastman & Smith Ltd. Fall Employment Law Seminar
DESCRIPTION:The legal landscape is shifting rapidly\, with new regulations and enforcement agendas\, court rulings\, and compliance challenges emerging at a fast pace. Our attorneys will provide insight into these changes\, highlight key trends\, and share practical strategies to help employers and HR professionals stay up-to date and prepare for what's ahead. Join us for an informative seminar addressing some of the most significant updates in employment law\, including: Key Supreme Court Decisions Impacting the Workplace AI in the Workplace: Uses and Limitations Common FMLA Pitfalls for HR and Supervisors Religion and Religious Accommodations in the Workplace NLRB Developments State Law Trends and Key Issues for Multi-State Employers: Marijuana\, Non-Competes\, Wage Issues\, Paid Leave and More!  HRCI and CLE credit requested.
X-ALT-DESC;FMTTYPE=text/html:The legal landscape is shifting rapidly\, with new regulations and enforcement agendas\, court rulings\, and compliance challenges emerging at a fast pace. Our attorneys will provide insight into these changes\, highlight key trends\, and share practical strategies to help employers and HR professionals stay up-to date and prepare for what&rsquo\;s ahead. Join us for an informative seminar addressing some of the most significant updates in employment law\, including: Key Supreme Court Decisions Impacting the Workplace AI in the Workplace: Uses and Limitations Common FMLA Pitfalls for HR and Supervisors Religion and Religious Accommodations in the Workplace NLRB Developments State Law Trends and Key Issues for Multi-State Employers: Marijuana\, Non-Competes\, Wage Issues\, Paid Leave and More!&nbsp\;&nbsp\;HRCI and CLE credit requested.
LOCATION:Hilton Garden Inn Perrysburg located at 6165 Levis Commons Blvd\, Perrysburg\, OH 43551
UID:e.1384.3449
SEQUENCE:3
DTSTAMP:20260425T204702Z
URL:https://business.vanwertchamber.com/events/details/eastman-smith-ltd-fall-employment-law-seminar-3449
END:VEVENT

END:VCALENDAR
