BEGIN:VCALENDAR
VERSION:2.0
PRODID:-//ChamberMaster//Event Calendar 2.0//EN
METHOD:PUBLISH
X-PUBLISHED-TTL:P3D
REFRESH-INTERVAL:P3D
CALSCALE:GREGORIAN
BEGIN:VEVENT
DTSTART:20251119T163000Z
DTEND:20251119T180000Z
X-MICROSOFT-CDO-ALLDAYEVENT:FALSE
SUMMARY:Brand It Marketing Presents 4th Wednesday\, The Importance of Branding
DESCRIPTION:Join Brand It Marketing for their informational and educational session on the importance of branding. They want to help your brand grow and reach the best audience for you! Your ticket will cover you lunch and the wonderful educational and informational session.
X-ALT-DESC;FMTTYPE=text/html:Join Brand It Marketing for their informational and educational session on the importance of branding. They want to help your brand grow and reach the best audience for you! Your ticket will cover you lunch and the wonderful educational and informational session.&nbsp\;
LOCATION:Board Room Van Wert Health North 214 Towne Center Blvd Van Wert\, OH 45891
UID:e.1384.3441
SEQUENCE:3
DTSTAMP:20260425T155410Z
URL:https://business.vanwertchamber.com/events/details/brand-it-marketing-presents-4th-wednesday-the-importance-of-branding-3441
END:VEVENT

END:VCALENDAR
