BEGIN:VCALENDAR
VERSION:2.0
PRODID:-//ChamberMaster//Event Calendar 2.0//EN
METHOD:PUBLISH
X-PUBLISHED-TTL:P3D
REFRESH-INTERVAL:P3D
CALSCALE:GREGORIAN
BEGIN:VEVENT
DTSTART:20251017T150000Z
DTEND:20251017T160000Z
X-MICROSOFT-CDO-ALLDAYEVENT:FALSE
SUMMARY:Apple Festival Ribbon Cutting
DESCRIPTION:Join the Van Wert Area Chamber of Commerce and the Apple Festival in opening of the Apple Festival!
X-ALT-DESC;FMTTYPE=text/html:Join the Van Wert Area Chamber of Commerce and the Apple Festival in opening of the Apple Festival!
LOCATION:This will be located at the Fairgrounds at 1055 S Washington St\, Van Wert\, OH 45891!
UID:e.1384.3435
SEQUENCE:3
DTSTAMP:20260425T190240Z
URL:https://business.vanwertchamber.com/events/details/apple-festival-ribbon-cutting-3435
END:VEVENT

END:VCALENDAR
