BEGIN:VCALENDAR
VERSION:2.0
PRODID:-//ChamberMaster//Event Calendar 2.0//EN
METHOD:PUBLISH
X-PUBLISHED-TTL:P3D
REFRESH-INTERVAL:P3D
CALSCALE:GREGORIAN
BEGIN:VEVENT
DTSTART:20251121T160000Z
DTEND:20251121T173000Z
X-MICROSOFT-CDO-ALLDAYEVENT:FALSE
SUMMARY:2025 Salute to Small Business Awards
DESCRIPTION:Join us for the 2025 Salute to Small Business Awards & Bruncheon... celebrating 20 years of honoring Small Business in Van Wert County. The Chamber will spotlight businesses built on an entrepreneurial spirit that play a vital role in the Van Wert community and economy. A nomination is a tribute to its leadership and employees. Premier event sponsors Shultz & Huber and Associates\, and Citizen's National Bank.
X-ALT-DESC;FMTTYPE=text/html:<font face="Tahoma"><font color="#000000"><span style="font-size: 18px\;">Join us for the 2025 Salute to Small Business Awards &amp\; Bruncheon... celebrating 20 years of honoring Small Business in Van&nbsp\;Wert&nbsp\;County. The Chamber will spotlight businesses built on an entrepreneurial spirit that play a vital role in the Van Wert community and economy. A nomination is a tribute to its leadership and employees. Premier event sponsors Shultz &amp\; Huber and Associates\, and Citizen&#39\;s National Bank.</span></font></font>
LOCATION:Willow Bend County Club 579 Hospital Drive Van Wert\, OH 45891
UID:e.1384.3439
SEQUENCE:3
DTSTAMP:20260425T172654Z
URL:https://business.vanwertchamber.com/events/details/2025-salute-to-small-business-awards-3439
END:VEVENT

END:VCALENDAR
